BEGIN:VCALENDAR
VERSION:2.0
PRODID:-//parastapirkanmaalta.fi - ECPv6.15.20//NONSGML v1.0//EN
CALSCALE:GREGORIAN
METHOD:PUBLISH
X-ORIGINAL-URL:https://parastapirkanmaalta.fi
X-WR-CALDESC:Tapahtumat parastapirkanmaalta.fi
REFRESH-INTERVAL;VALUE=DURATION:PT1H
X-Robots-Tag:noindex
X-PUBLISHED-TTL:PT1H
BEGIN:VTIMEZONE
TZID:Europe/Helsinki
BEGIN:DAYLIGHT
TZOFFSETFROM:+0200
TZOFFSETTO:+0300
TZNAME:EEST
DTSTART:20180325T010000
END:DAYLIGHT
BEGIN:STANDARD
TZOFFSETFROM:+0300
TZOFFSETTO:+0200
TZNAME:EET
DTSTART:20181028T010000
END:STANDARD
BEGIN:DAYLIGHT
TZOFFSETFROM:+0200
TZOFFSETTO:+0300
TZNAME:EEST
DTSTART:20190331T010000
END:DAYLIGHT
BEGIN:STANDARD
TZOFFSETFROM:+0300
TZOFFSETTO:+0200
TZNAME:EET
DTSTART:20191027T010000
END:STANDARD
BEGIN:DAYLIGHT
TZOFFSETFROM:+0200
TZOFFSETTO:+0300
TZNAME:EEST
DTSTART:20200329T010000
END:DAYLIGHT
BEGIN:STANDARD
TZOFFSETFROM:+0300
TZOFFSETTO:+0200
TZNAME:EET
DTSTART:20201025T010000
END:STANDARD
BEGIN:DAYLIGHT
TZOFFSETFROM:+0200
TZOFFSETTO:+0300
TZNAME:EEST
DTSTART:20210328T010000
END:DAYLIGHT
BEGIN:STANDARD
TZOFFSETFROM:+0300
TZOFFSETTO:+0200
TZNAME:EET
DTSTART:20211031T010000
END:STANDARD
END:VTIMEZONE
BEGIN:VEVENT
DTSTART;TZID=Europe/Helsinki:20200206T110000
DTEND;TZID=Europe/Helsinki:20200206T160000
DTSTAMP:20260424T195234
CREATED:20191230T120907Z
LAST-MODIFIED:20191230T120907Z
UID:2764-1580986800-1581004800@parastapirkanmaalta.fi
SUMMARY:Hyvinvointituotteet maailmalla - trendejä ja ideoita
DESCRIPTION:SUPERHYVÄ-hanke auttaa elintarvikealan yrityksiä kehittämään hyvinvointituotteisiin liittyvän osaamisen avulla uusia tuotteita ja ratkaisuja\, joiden avulla yritykset voivat saavuttaa uutta liiketoimintaa ja parantaa kannattavuuttaan. \nHyvinvointituotteita ovat mm. kasvistuotteet\, erityisruokavaliotuotteet\, luomutuotteet\, arktiset tuotteet\, ravintolisät\, funktionaaliset tuotteet\, superfood-tyyppiset tuotteet ja syötävä kosmetiikka. Tässä tilaisuudessa kerrotaan hyvinvointituotteiden trendeistä maailmalla\, tuodaan esille mielenkiintoisia tuotteita ja tuoteideoita sekä ideoidaan ryhmissä tuotenäyttelyn äärellä
URL:https://parastapirkanmaalta.fi/ajankohtaista-tapahtumakalenteri/hyvinvointituotteet-maailmalla-trendeja-ja-ideoita/
CATEGORIES:Koulutukset
ATTACH;FMTTYPE=image/png:https://parastapirkanmaalta.fi/wp-content/uploads/2019/12/SUPERHYValogopienempi998912.png
END:VEVENT
BEGIN:VEVENT
DTSTART;TZID=Europe/Helsinki:20200206T090000
DTEND;TZID=Europe/Helsinki:20200206T150000
DTSTAMP:20260424T195234
CREATED:20200115T123307Z
LAST-MODIFIED:20200115T123307Z
UID:2980-1580979600-1581001200@parastapirkanmaalta.fi
SUMMARY:Maatalouden veropäivä Tampereella 6.2.2020
DESCRIPTION:Veropolitiikka\, verotus ja veroilmoituksen täyttö\nOhjelma \n9:00 Aamukahvit\, auditorion aulassa \n9:30 Veropäivän avaus Farmarin teematieto -hanke \n9:35 Ajankohtaista veropolitiikasta\, Timo Sipilä verojohtaja\, MTK \n10:30 Verotuksen ajankohtaiset – Hannu Vuoriniemi\, Vuoriniemi Consulting Oy \nMaatalouden sivuelinkeinojen verotus\, erilaisten maatalouden yhteenliittymien verotus (yhtymä\, kuolinpesä\, vaihtotyö)\, Omaveropalvelun muutokset. \n11:30 Lounas (omakustanteinen) \n12:30 Vuoden 2019 veroilmoituksen täyttövinkit\, tulevat muutokset vuodelle 2020. suunnitelmallisuutta poistojen käyttöön maataloudessa! Nettovarallisuuden hallinta. Miksi suunnittelu on tärkeää? \nn. 15:00 Tilaisuus päättyy \nHannu Vuoriniemi\, Vuoriniemi Consulting Oy \n  \nIlmoittautuminen linkistä \nIlmoittautuminen viimeistään 30.1.2020
URL:https://parastapirkanmaalta.fi/ajankohtaista-tapahtumakalenteri/maatalouden-veropaiva-tampereella-6-2-2020/
LOCATION:Ahlman auditorio\, Hallilantie 24\, Tampere\, 33820
ATTACH;FMTTYPE=image/jpeg:https://parastapirkanmaalta.fi/wp-content/uploads/2019/12/mtk-logo.jpeg
END:VEVENT
BEGIN:VEVENT
DTSTART;TZID=Europe/Helsinki:20200205T183000
DTEND;TZID=Europe/Helsinki:20200205T200000
DTSTAMP:20260424T195234
CREATED:20200115T123031Z
LAST-MODIFIED:20200115T123634Z
UID:2977-1580927400-1580932800@parastapirkanmaalta.fi
SUMMARY:Veroilta Vesilahdessa keskiviikkona 05.02.2020
DESCRIPTION:Luennoitsijana on Hannu Vuoriniemi\, Vuoriniemi Consulting Oy. \nPäivitetään ajankohtaiset asiat vuoden 2019 veroilmoituksen täyttöä varten. \nEi ilmoittautumista.
URL:https://parastapirkanmaalta.fi/ajankohtaista-tapahtumakalenteri/veroilta-vesilahdessa-keskiviikkona-05-02-2020/
LOCATION:Vesilahden Lähde –kirjasto\, Huhtatie 7\, Vesilahti\, 37470
ATTACH;FMTTYPE=image/jpeg:https://parastapirkanmaalta.fi/wp-content/uploads/2019/12/mtk-logo.jpeg
END:VEVENT
BEGIN:VEVENT
DTSTART;TZID=Europe/Helsinki:20200205T090000
DTEND;TZID=Europe/Helsinki:20200205T150000
DTSTAMP:20260424T195234
CREATED:20200110T072826Z
LAST-MODIFIED:20200110T072826Z
UID:2904-1580893200-1580914800@parastapirkanmaalta.fi
SUMMARY:Valokuvan käyttö digimarkkinoinnissa – työpaja Orivedellä
DESCRIPTION:Viestinnässä ja markkinoinnissa visuaalisuus on erittäin tärkeä keino erottautua muista. Viesti pitäisi saada välitettyä asiakkaalle mahdollisimman tehokkaasti\, mutta samalla minimaalisella budjetilla ja nopealla aikataululla. Kuinka otetaan hyviä markkinointikuvia? Miten käytän erilaisia kuvankäsittelyohjelmia? Miten tuotan markkinointimateriaalia Canvan avulla? \nPäivän aikana teemme kuvausharjoituksia\, harjoittelemme simppeliä kuvankäsittelyä sekä tutustumme Canvan perusominaisuuksiin ja valikkoihin\, tunnuksien tekemisestä tulostamiseen asti! Opitaan käyttämään erilaisia visuaalisia ratkaisuja valokuvien\, grafiikkojen ja tekstien avulla. Muokataan kuvia\, jaetaan ja julkaistaan niitä! \nIlmoittautuminen tämän linkin kautta.
URL:https://parastapirkanmaalta.fi/ajankohtaista-tapahtumakalenteri/valokuvan-kaytto-digimarkkinoinnissa-tyopaja-orivedella/
LOCATION:Orivesi
CATEGORIES:Koulutukset
ATTACH;FMTTYPE=image/jpeg:https://parastapirkanmaalta.fi/wp-content/uploads/2020/01/PurePirkanmaa_Logo_Ahlman_2018_WEB-1.jpg
END:VEVENT
BEGIN:VEVENT
DTSTART;TZID=Europe/Helsinki:20200129T113000
DTEND;TZID=Europe/Helsinki:20200129T160000
DTSTAMP:20260424T195234
CREATED:20191230T121509Z
LAST-MODIFIED:20191230T121827Z
UID:2774-1580297400-1580313600@parastapirkanmaalta.fi
SUMMARY:Toimiva\, tuottava peltomaa - onko peltosi viljelyvarma myös tulevaisuudessa?
DESCRIPTION:Toimiva\, hyvärakenteinen peltomaa on avaintekijänä tavoiteltaessa parempaa satoa tai esimerkiksi kestävyyttä voimakkaiden kuivuus- ja sadejaksojen aikana. Tule kuulemaan käytännön vinkit keinoista\, joilla maan kasvukuntoa voidaan parantaa sekä kokemuksia kunnostustoimien tuottamista hyödyistä! Tilaisuus on maksuton ja avoin kaikille maatalousyrittäjille. \nOhjelma\n11.30 Lounas/kahvit\n\n12.00 Tilaisuuden avaus – Jaakko Ahola\, MTK Pirkanmaa\n12.10 Muokkauksen vaikutus maan rakenteeseen – Janne Heikkinen\, Vilkku plus -hanke\nErilaisilla muokkausmenetelmillä voidaan parantaa maan rakennetta mekaanisesti. Jotta lopputulos on hyvä\, täytyy ensin tunnistaa pellon kasvukuntoa rajoittavat tekijät. Pellon pintaa syvempi tarkastelu kertoo mahdollisista rakenneongelmista ja sopivat menetelmät maan rakenteen parantamiseksi on helpompi valita.\n13.00 Pellon vesitalouden hallinta; käytännön toimet – Janne Pulkka\, Etelä-Suomen salaojakeskus\nEsitelmä pitää sisällään asiaa valtaojien kunnostamisesta sekä peltojen salaojittamisesta. Vesitalouden hallinnalla luodaan perusedellytykset peltomaan hyvälle kasvukunnolle.\n13.50 Kahvit\n14.15 Hiiliviljelyn käytäntöjä maan kasvukunnon edistämiseksi – Tuomas Mattila\, tutkija (SYKE) ja maanviljelija (Kilpiän tila)\nMaaperän hiilivaraston kasvattaminen on tärkeää ilmastonmuutoksen torjumiseksi. Samaan aikaan hiiliviljelymenetelmillä on suoraa hyötyä maan kasvukunnolle (kasvipeite\, juuristo\, maaperän rakenne\, mikrobiaktiivisuus). Esityksessä käydään läpi käytäntöjä ja kokemuksia 108 Carbon Action tilalta.\n15.15 Käytännön kokemuksia maan kasvukunnon parantamisesta – Philipp Mayer\, Mantereen tila\nMitä on opittu ja saatu aikaan Mantereen tilalla viidessä vuodessa\, kun keskiössä on ollut maan kasvukunnon parantaminen? Kyntöauroista kevennettyyn muokkaukseen\, ylilaidunnuksesta kokonaisvaltaiseen laidunsuunnitteluun.\n15.45 Keskustelua\n16.00 Tilaisuus päättyy\n\n\nTiedustelut: marja.kosme(at)ely-keskus.fi\nIlmoittaudu mukaan viimeistään 23.1.2020!
URL:https://parastapirkanmaalta.fi/ajankohtaista-tapahtumakalenteri/toimiva-tuottava-peltomaa-onko-peltosi-viljelyvarma-myos-tulevaisuudessa/
LOCATION:Lempäälän Manttaalitalo\, Manttaalitie 1\, Lempäälä\, 37500\, Suomi
ATTACH;FMTTYPE=image/jpeg:https://parastapirkanmaalta.fi/wp-content/uploads/2019/12/Regenarative-before-and-after.jpg
END:VEVENT
BEGIN:VEVENT
DTSTART;TZID=Europe/Helsinki:20200123T093000
DTEND;TZID=Europe/Helsinki:20200123T150000
DTSTAMP:20260424T195234
CREATED:20200115T123553Z
LAST-MODIFIED:20200115T123553Z
UID:2983-1579771800-1579791600@parastapirkanmaalta.fi
SUMMARY:Maatalousyrittäjä muutoksessa -seminaari Loimaalla 23.1.2020
DESCRIPTION:Tervetuloa Loimaan Sarka -museolle 23.1.2020! \nPäivän teemana on muutos omalla tilalla ja omassa arjessa. Tule hakemaan näkökulmia ja rohkeutta oman yrityksen kehittämiseen! \nTilaisuus on maksuton ja avoin kaikille maatalousyrittäjille. \nIlmoittautuminen: www.lyyti.in/muutosloimaa2020
URL:https://parastapirkanmaalta.fi/ajankohtaista-tapahtumakalenteri/maatalousyrittaja-muutoksessa-seminaari-loimaalla-23-1-2020/
LOCATION:Sarka-museo\, Loimaa\, Vanhankirkontie 383\, Loimaa
CATEGORIES:Koulutukset,Tilaisuus
END:VEVENT
BEGIN:VEVENT
DTSTART;VALUE=DATE:20200110
DTEND;VALUE=DATE:20200111
DTSTAMP:20260424T195234
CREATED:20191204T072900Z
LAST-MODIFIED:20191204T082857Z
UID:2675-1578614400-1578700799@parastapirkanmaalta.fi
SUMMARY:Tulevaisuusvalmennuksista osaamista ja intoa - käynnistyy
DESCRIPTION:ProAgria Etelä-Suomi pilotoi S-ryhmän kotimaista ruokasektoria vaudittavissa teoissa. Joulu-tammikuussa käynnistyvät tuottajien tulevaisuusvalmennukset liiketoiminnan kehittämiseen ja ilmastoyrittäjyyteen. \nValmennukseen osallistuneella yrittäjällä on pilotin päätyttyä asiantuntijoidemme kanssa sparrattu liiketoimintasuunnitelma\, jossa on tarkoin puntaroitu myös kuluttajamarkkinoiden mahdollisuudet ja tunnistettu keinot\, joilla omalle osaamiselle ja tuotannolle saadaa lisää arvoa. \nValitse kiinnostavin polku\nTarjoamme kehittymisellesi kolme valmennuspolkua: Yrittäjäosaaminen\, Megatrendit ja kuluttajatieto sekä Ilmastoyrittäjyys. Voit myös mahdollisuuksiesi mukaan osallistua jonkin toiseen polun valmennusmoduleihin. \n1. Yrittäjäosaamisen kasvattamisen polku\nYrittäjäosaamispolussa keskitytään yrityskokonaisuuden selkeyttämiseen\, strategian kirkastamiseen\, yrittäjäominaisuuksien sparraukseen ja oman yrityksen tulevaisuuden pohdintaan. Lisäksi yrittäjä saa mukaansa kummin\, jonka kanssa sprarrata tehtyjen suunnitelmien käytäntöön vientiä. Valmennuksessa panostamme erityisesti innostukseen ja pienryhmissä tekemiseen. Kouluttajina mm. ProAgrian Strategia+ -konsultit. Katso tarkempi kuvaus \n2. Megatrendit ja kuluttajatieto\nHaluatko olla tulevaisuuden maatila- / ruokayrittäjä suomalaisessa ruokaketjussa? \nKatso tarkempi kuvaus tästä \n3. Ilmastoyrittäjyys\nIlmastonmuutoksen hillintää maatiloilla tukevat monet jo olemassa olevat kestävän maataloustuotannon toimet\, mutta tiloilla tarvitaan myös uusia ilmastoratkaisuja\, jotta \n\npäästään kasvattamaan peltojen hiilinieluja ja\nsaamaan todennettuja\, mitattuja tuloksia hiilipäästöistä ja hiilen sidonnasta.\n\nNämä mahdollistavat kompensaatiopalveluiden kehittämisen ja uudenlaisen ilmastoyrittäjyyden käynnistämisen. Lisäksi uusiutuvan energian tuotanto ja maatalouden sivuvirtojen hyödyntäminen siinä sekä maatilayritysten ympäristövastuullisuuden ja resurssitehokkuuden kehittäminen ovat keskeisiä tulevaisuusvalmennusten teemoja. \nKatso tarkempi ilmastoyrittäjyyden polun kuvaus tästä.
URL:https://parastapirkanmaalta.fi/ajankohtaista-tapahtumakalenteri/tulevaisuusvalmennuksista-osaamista-ja-intoa/
CATEGORIES:Koulutukset
ATTACH;FMTTYPE=image/jpeg:https://parastapirkanmaalta.fi/wp-content/uploads/2019/12/outline-eco-city-future-ecological-green-environment-ecosystem-vector-concept_53562-5163.jpg
END:VEVENT
BEGIN:VEVENT
DTSTART;TZID=Europe/Helsinki:20191203T093000
DTEND;TZID=Europe/Helsinki:20191203T141500
DTSTAMP:20260424T195234
CREATED:20191120T113541Z
LAST-MODIFIED:20191120T113541Z
UID:2649-1575365400-1575382500@parastapirkanmaalta.fi
SUMMARY:Järki-investoinnit - onko niitä? Maatilan investointi-info\, Pirkanmaa
DESCRIPTION:Infon ohjelma\nTulokahvi\nTilaisuuden avaus ja hankkeen toimet\nMaatalouden investointituet\, rakennusinvestointien hyväksyttävät kustannukset\, Näkymät rahoituksesta vuodelle 2020\, Mikko Teivaala\, Pirkanmaan Ely-keskus\nMaatalousympäristön vesienhallinta ja tähän liittyvät rahoitusvaihtoehdot\, Janne Pulkka\, Etelä-Suomen Salaojakeskus\nRuokailumahdollisuus\nInvestointien suunnittelu\, investointitukihakemuksen valmistelu\, Katri Myry\, ProAgria Etelä-Suomi\nRahoittajan näkökulma investointitilanteessa\, pankin edustaja\nJaksaminen investointivaiheessa\, Maija Pispa\, Voimaa Farmarille -hanke\nMonialaisen maatilan yrityspalvelut ja rahoitusvaihtoehdot\, Päivi Tiura-Paavola\, ProAgria Etelä-Suomi\nPäivän yhteenveto \nIlmoittautuminen alla olevalla lomakkeella viimeistään 26.11.. \nInfon järjestää Elinvoimainen maatilatalous ELINA -hanke. \n\n\n\n\n\n\nTapahtuman ajankohta:  03.12.2019 09:30 – 14:15\nLähiosoite: Keisarinviitta 2 (ABC Pirkkala)\nPostinumero ja -toimipaikka: Pirkkala\nHinta: maksuton
URL:https://parastapirkanmaalta.fi/ajankohtaista-tapahtumakalenteri/jarki-investoinnit-onko-niita-maatilan-investointi-info-pirkanmaa/
LOCATION:ABC Pirkkala\, Keisarinviitta 2\, Pirkkala\, Suomi
CATEGORIES:Tilaisuus
ATTACH;FMTTYPE=image/jpeg:https://parastapirkanmaalta.fi/wp-content/uploads/2019/11/kuivuri_ja_tyokoneet_jarmo_keskinen_12.jpg
END:VEVENT
BEGIN:VEVENT
DTSTART;TZID=Europe/Helsinki:20191130T100000
DTEND;TZID=Europe/Helsinki:20191130T140000
DTSTAMP:20260424T195234
CREATED:20191120T112604Z
LAST-MODIFIED:20191120T112604Z
UID:2635-1575108000-1575122400@parastapirkanmaalta.fi
SUMMARY:Ahlmanin Joulutori 30.11.2019
DESCRIPTION:Ahlmanin joulutorille saapuu torimyyjiä myymään omia tuotteitaan. \nTilapuoti avoinna klo 10-14. Ravintola Annassa tarjolla joulupuuroa. \nLämpimästi Tervetuloa! \n  \n 
URL:https://parastapirkanmaalta.fi/ajankohtaista-tapahtumakalenteri/ahlmanin-joulutori-30-11-2019/
LOCATION:AhlmanEdu\, Hallilantie 24\, Tampere\, 33820
CATEGORIES:Torit
ATTACH;FMTTYPE=image/jpeg:https://parastapirkanmaalta.fi/wp-content/uploads/2019/11/JOULUTORI_2019-kopio-600x387.jpg
ORGANIZER;CN="Ahlman":MAILTO:ahlman@ahlman.fi
END:VEVENT
BEGIN:VEVENT
DTSTART;VALUE=DATE:20191130
DTEND;VALUE=DATE:20191223
DTSTAMP:20260424T195234
CREATED:20191120T112851Z
LAST-MODIFIED:20191120T112851Z
UID:2639-1575072000-1577059199@parastapirkanmaalta.fi
SUMMARY:Tampereen Joulutori 30.11.-22.12.2019
DESCRIPTION:Joulutori on avoinna joka päivä klo 11–19\, Glögiravintola klo 11–20 ja Munkkikahvila 10–19.\nJo vuodesta 2008 järjestetty Tampereen Joulutori on tunnelmallinen ja perinteinen tapahtuma\, jossa hyvät asiat säilyivät ja josta löytää aina jotain uutta. Tampereen Joulutori löytyy Keskustorilta Hämeenkadun varresta. \nTervetuloa Joulutorin tunnelmaan. Aito Joulu alkaa elämyksestä!
URL:https://parastapirkanmaalta.fi/ajankohtaista-tapahtumakalenteri/tampereen-joulutori-30-11-22-12-2019/
CATEGORIES:Torit
ATTACH;FMTTYPE=image/jpeg:https://parastapirkanmaalta.fi/wp-content/uploads/2019/11/IMG_4439-scaled.jpg
END:VEVENT
BEGIN:VEVENT
DTSTART;TZID=Europe/Helsinki:20191128T090000
DTEND;TZID=Europe/Helsinki:20191128T160000
DTSTAMP:20260424T195234
CREATED:20191114T132123Z
LAST-MODIFIED:20191114T132125Z
UID:2208-1574931600-1574956800@parastapirkanmaalta.fi
SUMMARY:Wix - verkkosivurakennus workshop 28.11.2019
DESCRIPTION:Tervetuloa Wix koulutukseen 28.11.2019 Ahlmanille!
URL:https://parastapirkanmaalta.fi/ajankohtaista-tapahtumakalenteri/wix-verkkosivurakennus-workshop-28-11-2019/
LOCATION:AhlmanEdu\, Hallilantie 24\, Tampere\, 33820
CATEGORIES:Koulutukset
ATTACH;FMTTYPE=image/jpeg:https://parastapirkanmaalta.fi/wp-content/uploads/2019/02/slide1-bg-scaled.jpg
END:VEVENT
END:VCALENDAR